Workbook

Sheet Program Expense Detail
A1: Program Expense Budget Detail
A4: Staffing | E4: # FTE | F4: % FTE | G4: Base Annual Salary/Wage
D5: Hrs./Wk. | H5: $/Hr. | I5: Wks
B6: Program Manager - HS | D6: 4 | E6: 1 | F6: 0.1 | G6: =+H6*2080 -> 58240 | H6: 28 | I6: 24 | J6: =+D6*H6*I6 -> 2688 | L6: Program/Grant Management support -3% utilization of FTE (2080 x $25/hr.)
B7: Client Advocate - CE - HS | D7: 14 | E7: 1 | F7: 1 | G7: =+H7*2080 -> 43680 | H7: 21 | I7: 20 | J7: =+D7*H7*I7 -> 5880 | L7: .25 FTE (2080 x $21/hr.) dedicated to Housing & SupportServices; Coordinated Entry, Diversion, Referrals and service provider staff training
B8: Volunteer Coordination - HS | D8: 12 | E8: 1 | F8: 1 | G8: =+H8*2080 -> 39520 | H8: 19 | I8: 24 | J8: =+D8*H8*I8 -> 5472 | L8: 10% FTE (2080 x $21/hr.) dedicated to Project Suport and service provider staff training
B9: Overnight Support 10PM - 6 AM | D9: 40 | E9: 1 | F9: 1 | G9: =+H9*2080 -> 37440 | H9: 18 | I9: 21 | J9: =+D9*H9*I9 -> 15120 | L9: 25% FTE (2080 x $21/hr.) dedicated to Training Development and End User and service provider staff training
B10: Overnight Support 10PM - 6 AM | D10: 40 | E10: 1 | F10: 1 | G10: =+H10*2080 -> 37440 | H10: 18 | I10: 21 | J10: =+D10*H10*I10 -> 15120 | L10: 25% FTE (2080 x $21/hr.) dedicated to Training Development and End User and service provider staff training
B11: Overnight Support Sat/Sun 10PM - 6 AM | D11: 16 | E11: 1 | F11: 1 | G11: =+H11*2080 -> 37440 | H11: 18 | I11: 21 | J11: =+D11*H11*I11 -> 6048 | L11: 3% FTE (2080 x $20/hr. ) dedicated to HMIS data management and program support
B12: Overnight Support Sat/Sun 10PM - 6 AM | D12: 16 | E12: 1 | F12: 1 | G12: =+H12*2080 -> 37440 | H12: 18 | I12: 21 | J12: =+D12*H12*I12 -> 6048 | L12: 3% FTE (2080 x $20/hr. ) dedicated to HMIS data management and program support
B13: Peer Bridger | E13: 1 | F13: 0 | G13: =+H13*2080 -> 43680 | H13: 21 | J13: =+E13*F13*G13 -> 0 | L13: 20% FTE (2080 x $20/hr.) dedicated to peer bridging, client connection and advocacy and service provider staff training
B14: FTE | C14: =+F6+F7+F8+F9+F12+F13+F14 -> 4.1 | D14: =SUM(D6:D13) -> 142 | G14: =+H14*2080 -> 0 | J14: =+E14*F14*G14 -> 0
B15: New FTE | C15: 2 | F15: 0 | G15: =+H15*2080 -> 0 | J15: =+E15*F15*G15 -> 0
A17: Direct Services | J17: Yr. 1 | K17: Yr. 2 | L17: Yr. 3 | M17: Yr 4 | N17: Yr 5
J18: =SUM(I19:I35) -> 10800 | K18: =+J18*K20+J18 -> 11124 | L18: =+K18*L20+K18 -> 11457.72 | M18: =+L18*L20+L18 -> 11801.452 | N18: =+M18*M20+M18 -> 12155.495
B19: Diversion Flex Fund | E19: 0 | F19: 40 | G19: 1 | I19: =+E19*F19*G19 -> 0
B20: Flex Fund - Living Support | F20: 20 | G20: 1 | I20: =+E20*F20*G20 -> 0 | J20: Annual Increase: | K20: 0.03 | L20: 0.03 | M20: 0.03 | N20: 0.03
B21: TH Host Home | F21: 300 | G21: 12 | I21: =+E21*F21*G21 -> 0
B22: TH Crisis Home Lease & utilities | F22: 2000 | G22: 12 | I22: =+E22*F22*G22 -> 0
B23: RRH Rental Assistance | F23: 750 | G23: 6 | I23: =+E23*F23*G23 -> 0
B24: Rent Deposit | F24: 750 | G24: 1 | I24: =+E24*F24*G24 -> 0
B25: Essential Needs | F25: 100 | G25: 1 | I25: =+E25*F25*G25 -> 0
B26: Employment Needs | F26: 200 | G26: 1 | I26: =+E26*F26*G26 -> 0
B27: Laundry Vouchers | F27: 10 | G27: 24 | I27: =+E27*F27*G27 -> 0 | K27: No Direct Services provided through this funding
B28: Meals/Food Assistance | F28: 35 | G28: 6 | I28: =+E28*F28*G28 -> 0
B29: Rent Assistance | E29: 1 | F29: 1600 | G29: 6 | I29: =+E29*F29*G29 -> 9600
B30: Rent Deposit | F30: 10 | G30: 24 | I30: =+E30*F30*G30 -> 0
B31: Other Rent Expenses | F31: 10 | G31: 24 | I31: =+E31*F31*G31 -> 0
B32: Mortgage Assistance | F32: 1350 | G32: 6 | I32: =+E32*F32*G32 -> 0
B33: Child Care Services | F33: 500 | G33: 3 | I33: =+E33*F33*G33 -> 0
B34: Utility Asistance | E34: 1 | F34: 200 | G34: 6 | I34: =+E34*F34*G34 -> 1200
B35: WX/Home Reapirs | F35: 4000 | G35: 1 | I35: =+E35*F35*G35 -> 0
B38: Services | E38: =+E19+E20+E25+E26+E27+E28+E29+E30+E31+E32+E33+E34+E35 -> 2
A40: Other Non-Personnel Program Expenses
E41: Unit | F41: Cost/Unit | G41: Frequency | J41: Total | K41: Justification
E43: Unit | F43: Cost/Unit | G43: Frequency | J43: Total | K43: Justification
B44: All Training | J44: =SUM(I45:I48) -> 0 | K44: Initial training for FTE in core competencies, Coordinated Entry, Diversion, Shelter Operations, Landlord Tenant Law, Motivational Interviewing, Trauma Informed Care
C45: Motivational Interviewing | E45: =+$C$15 -> 2 | F45: 250 | I45: =+E45*F45*G45 -> 0
C46: Housing First | E46: =+$C$15 -> 2 | F46: 150 | I46: =+E46*F46*G46 -> 0
C47: Trauma Informed Care | E47: =+$C$15 -> 2 | F47: 325 | I47: =+E47*F47*G47 -> 0
...

Sheet Budget
B1: Grant Budget Template | C1: 2021 HopeSource/KVMA Cold Weather Shelter
B3: Proposed Funding Information:
B4: Name of Organization: | C4: HopeSource
B5: Grant ID:
B6: Total Grant Funds Requested: | C6: =+G79 -> 80468
B7: Application Fiscal Year: | C7: FY 2021 - 2025
B8: Proposed CoC Code(s): | C8: BoS 501
B9: County/State(s) to be Served: | C9: Kittitas
B10: Proposed # of Households Served: | C10: =13*7*21 -> 1911
B11: Average Amount per Household Served: | C11: =+C6/C10 -> 42.107797
B14: Program Expenses | F14: % of Total Grant | G14: Grant Fund Request Year One | H14: Matching and In Kind Year One | I14: Total Funds Year One | J14: Grant Funds FY17 Quarter 1 | K14: Grant Funds FY17 Quarter 2 | L14: Grant Funds FY17 Quarter 3 | M14: Grant Funds FY17 Quarter 4 | Q14: Year One | S14: Year Two | U14: Year Three | W14: Year Four | Y14: Year Five | AA14: 5 Year Grant Fund Total | AB14: Detailed Narrative Justification
B15: I. Provision and Coordination of Services
B16: 1. Personnel/Labor | C16: # FTE | D16: % FTE | E16: Base Annual Salary/Wage
B17: Title and Organization
B18: =+'Program Expense Detail'!B6 -> Program Manager - HS | C18: =+'Program Expense Detail'!E6 -> 1 | D18: 1 | E18: =+'Program Expense Detail'!J6 -> 2688 | F18: =G18/$G$77 -> 0 | H18: =+E18 -> 2688 | I18: =+G18+H18 -> 2688 | Q18: =+G18 -> 0 | R18: 0.03 | S18: =+Q18*1*R18+Q18 -> 0 | T18: 0.03 | U18: =+S18*1*T18+S18 -> 0 | V18: 0.03 | W18: =+U18*1*V18+U18 -> 0 | X18: 0.03 | Y18: =+W18*1*X18+W18 -> 0 | AA18: =+G18+S18+U18+W18+Y18 -> 0 | AB18: =+'[1]Program Expense Detail'!L6 -> Program/Grant Management support -3% utilization of FTE (2080 x $25/hr.)
B19: =+'Program Expense Detail'!B7 -> Client Advocate - CE - HS | C19: =+'Program Expense Detail'!E7 -> 1 | D19: =+'Program Expense Detail'!F7 -> 1 | E19: =+'Program Expense Detail'!J7 -> 5880 | F19: =G19/$G$77 -> 0 | H19: =+E19 -> 5880 | I19: =+G19+H19 -> 5880 | Q19: =+G19 -> 0 | R19: 0.03 | S19: =+Q19*1*R19+Q19 -> 0 | T19: 0.03 | U19: =+S19*1*T19+S19 -> 0 | V19: 0.03 | W19: =+U19*1*V19+U19 -> 0 | X19: 0.03 | Y19: =+W19*1*X19+W19 -> 0 | AA19: =+G19+S19+U19+W19+Y19 -> 0 | AB19: =+'[1]Program Expense Detail'!L7 -> .25 FTE (2080 x $21/hr.) dedicated to Housing & SupportServices; Coordinated Entry, Diversion, Referrals and service provider staff training
B20: =+'Program Expense Detail'!B8 -> Volunteer Coordination - HS | C20: =+'Program Expense Detail'!E8 -> 1 | D20: =+'Program Expense Detail'!F8 -> 1 | E20: =+'Program Expense Detail'!J8 -> 5472 | F20: =G20/$G$77 -> 0 | H20: =+E20 -> 5472 | I20: =+G20+H20 -> 5472 | Q20: =+G20 -> 0 | R20: 0.03 | S20: =+Q20*1*R20+Q20 -> 0 | T20: 0.03 | U20: =+S20*1*T20+S20 -> 0 | V20: 0.03 | W20: =+U20*1*V20+U20 -> 0 | X20: 0.03 | Y20: =+W20*1*X20+W20 -> 0 | AA20: =+G20+S20+U20+W20+Y20 -> 0 | AB20: =+'[1]Program Expense Detail'!L8 -> 10% FTE (2080 x $21/hr.) dedicated to Project Suport and service provider staff training
B21: =+'Program Expense Detail'!B9 -> Overnight Support 10PM - 6 AM | C21: =+'Program Expense Detail'!E9 -> 1 | D21: =+'Program Expense Detail'!F9 -> 1 | E21: =+'Program Expense Detail'!J9 -> 15120 | F21: =G21/$G$79 -> 0.18790078 | G21: =SUM(J21:M21) -> 15120 | I21: =+G21+H21 -> 15120 | J21: =+$C21*$D21*$E21*0.25 -> 3780 | K21: =+$C21*$D21*$E21*0.25 -> 3780 | L21: =+$C21*$D21*$E21*0.25 -> 3780 | M21: =+$C21*$D21*$E21*0.25 -> 3780 | Q21: =+G21 -> 15120 | R21: 0.01 | S21: =+Q21*1*R21+Q21 -> 15271.2 | T21: 0.01 | U21: =+S21*1*T21+S21 -> 15423.912 | V21: 0.01 | W21: =+U21*1*V21+U21 -> 15578.151 | X21: 0.01 | Y21: =+W21*1*X21+W21 -> 15733.933 | AA21: =+G21+S21+U21+W21+Y21 -> 77127.196 | AB21: =+'[1]Program Expense Detail'!L9 -> 25% FTE (2080 x $21/hr.) dedicated to Coordinated Entry End User and service provider staff training
B22: =+'Program Expense Detail'!B10 -> Overnight Support 10PM - 6 AM | C22: =+'Program Expense Detail'!E10 -> 1 | D22: =+'Program Expense Detail'!F10 -> 1 | E22: =+'Program Expense Detail'!J10 -> 15120 | F22: =G22/$G$79 -> 0.18790078 | G22: =SUM(J22:M22) -> 15120 | I22: =+G22+H22 -> 15120 | J22: =+$C22*$D22*$E22*0.25 -> 3780 | K22: =+$C22*$D22*$E22*0.25 -> 3780 | L22: =+$C22*$D22*$E22*0.25 -> 3780 | M22: =+$C22*$D22*$E22*0.25 -> 3780 | Q22: =+G22 -> 15120 | R22: 0.01 | S22: =+Q22*1*R22+Q22 -> 15271.2 | T22: 0.01 | U22: =+S22*1*T22+S22 -> 15423.912 | V22: 0.01 | W22: =+U22*1*V22+U22 -> 15578.151 | X22: 0.01 | Y22: =+W22*1*X22+W22 -> 15733.933 | AA22: =+G22+S22+U22+W22+Y22 -> 77127.196 | AB22: =+'[1]Program Expense Detail'!L10 -> 3% FTE (2080 x $20/hr. ) dedicated to HMIS data management and program support
B23: =+'Program Expense Detail'!B11 -> Overnight Support Sat/Sun 10PM - 6 AM | C23: =+'Program Expense Detail'!E11 -> 1 | D23: =+'Program Expense Detail'!F11 -> 1 | E23: =+'Program Expense Detail'!J11 -> 6048 | F23: =G23/$G$79 -> 0.075160312 | G23: =SUM(J23:M23) -> 6048 | I23: =+G23+H23 -> 6048 | J23: =+$C23*$D23*$E23*0.25 -> 1512 | K23: =+$C23*$D23*$E23*0.25 -> 1512 | L23: =+$C23*$D23*$E23*0.25 -> 1512 | M23: =+$C23*$D23*$E23*0.25 -> 1512 | Q23: =+G23 -> 6048 | R23: 0.03 | S23: =+Q23*1*R23+Q23 -> 6229.44 | T23: 0.03 | U23: =+S23*1*T23+S23 -> 6416.3232 | V23: 0.03 | W23: =+U23*1*V23+U23 -> 6608.8129 | X23: 0.03 | Y23: =+W23*1*X23+W23 -> 6807.0773 | AA23: =+G23+S23+U23+W23+Y23 -> 32109.653 | AB23: =+'[1]Program Expense Detail'!L9 -> 25% FTE (2080 x $21/hr.) dedicated to Coordinated Entry End User and service provider staff training
B24: =+'Program Expense Detail'!B12 -> Overnight Support Sat/Sun 10PM - 6 AM | C24: =+'Program Expense Detail'!E12 -> 1 | D24: =+'Program Expense Detail'!F12 -> 1 | E24: =+'Program Expense Detail'!J12 -> 6048 | F24: =G24/$G$79 -> 0.075160312 | G24: =SUM(J24:M24) -> 6048 | I24: =+G24+H24 -> 6048 | J24: =+$C24*$D24*$E24*0.25 -> 1512 | K24: =+$C24*$D24*$E24*0.25 -> 1512 | L24: =+$C24*$D24*$E24*0.25 -> 1512 | M24: =+$C24*$D24*$E24*0.25 -> 1512 | Q24: =+G24 -> 6048 | R24: 0.03 | S24: =+Q24*1*R24+Q24 -> 6229.44 | T24: 0.03 | U24: =+S24*1*T24+S24 -> 6416.3232 | V24: 0.03 | W24: =+U24*1*V24+U24 -> 6608.8129 | X24: 0.03 | Y24: =+W24*1*X24+W24 -> 6807.0773 | AA24: =+G24+S24+U24+W24+Y24 -> 32109.653 | AB24: =+'[1]Program Expense Detail'!L10 -> 3% FTE (2080 x $20/hr. ) dedicated to HMIS data management and program support
B25: =+'Program Expense Detail'!B13 -> Peer Bridger | C25: =+'Program Expense Detail'!E13 -> 1 | D25: =+'Program Expense Detail'!F13 -> 0 | E25: =+'Program Expense Detail'!J13/2 -> 0 | F25: =G25/$G$77 -> 0 | G25: =SUM(J25:M25) -> 0 | I25: =+G25+H25 -> 0 | J25: =+$C25*$D25*$E25*0.25 -> 0 | K25: =+$C25*$D25*$E25*0.25 -> 0 | L25: =+$C25*$D25*$E25*0.25 -> 0 | M25: =+$C25*$D25*$E25*0.25 -> 0 | Q25: =+G25 -> 0 | R25: 0.03 | S25: =+Q25*1*R25+Q25 -> 0 | T25: 0.03 | U25: =+S25*1*T25+S25 -> 0 | V25: 0.03 | W25: =+U25*1*V25+U25 -> 0 | X25: 0.03 | Y25: =+W25*1*X25+W25 -> 0 | AA25: =+G25+S25+U25+W25+Y25 -> 0 | AB25: =+'[1]Program Expense Detail'!L11 -> 20% FTE (2080 x $20/hr.) dedicated to peer bridging, client connection and advocacy and service provider staff training
B26: =+'Program Expense Detail'!B13 -> Peer Bridger | C26: =+'Program Expense Detail'!E13 -> 1 | D26: =+'Program Expense Detail'!F13 -> 0 | E26: =+'Program Expense Detail'!G13 -> 43680 | F26: =G26/$G$77 -> 0 | G26: =SUM(J26:M26) -> 0 | I26: =+G26+H26 -> 0 | J26: =+$C26*$D26*$E26*0.25 -> 0 | K26: =+$C26*$D26*$E26*0.25 -> 0 | L26: =+$C26*$D26*$E26*0.25 -> 0 | M26: =+$C26*$D26*$E26*0.25 -> 0 | Q26: =+G26 -> 0 | R26: 0.01 | S26: =+Q26*1*R26+Q26 -> 0 | T26: 0.01 | U26: =+S26*1*T26+S26 -> 0 | V26: 0.01 | W26: =+U26*1*V26+U26 -> 0 | X26: 0.01 | Y26: =+W26*1*X26+W26 -> 0 | AA26: =+G26+S26+U26+W26+Y26 -> 0 | AB26: =+'[1]Program Expense Detail'!L11 -> 20% FTE (2080 x $20/hr.) dedicated to peer bridging, client connection and advocacy and service provider staff training
B27: KVMA/Community Volunteer Hours - $18 x 1500 Hours (In Kind) | C27: 1 | D27: 1 | E27: =1500*18 -> 27000 | F27: =G27/$G$77 -> 0 | H27: =+E27 -> 27000 | I27: =+G27+H27 -> 27000 | J27: =+$C27*$D27*$E27*0.25 -> 6750 | K27: =+$C27*$D27*$E27*0.25 -> 6750 | L27: =+$C27*$D27*$E27*0.25 -> 6750 | M27: =+$C27*$D27*$E27*0.25 -> 6750 | Q27: =+G27 -> 0 | R27: 0.02 | S27: =+Q27*1*R27+Q27 -> 0 | T27: 0.02 | U27: =+S27*1*T27+S27 -> 0 | V27: 0.02 | W27: =+U27*1*V27+U27 -> 0 | X27: 0.02 | Y27: =+W27*1*X27+W27 -> 0 | AA27: =+G27+S27+U27+W27+Y27 -> 0
F28: =G28/$G$77 -> 0 | G28: =SUM(J28:M28) -> 0 | I28: =+G28+H28 -> 0 | J28: =+$C28*$D28*0.25 -> 0 | K28: =+$C28*$D28*0.25 -> 0 | L28: =+$C28*$D28*0.25 -> 0 | M28: =+$C28*$D28*0.25 -> 0 | Q28: =+G28 -> 0 | S28: =+Q28*1*R28+Q28 -> 0 | U28: =+S28*1*T28+S28 -> 0 | W28: =+U28*1*V28+U28 -> 0 | Y28: =+W28*1*X28+W28 -> 0 | AA28: =+G28+S28+U28+W28+Y28 -> 0
B29: Total Program FTE | F29: =G29/$G$77 -> 0 | G29: =SUM(J29:M29) -> 0 | I29: =+G29+H29 -> 0 | J29: =+$C29*$D29*0.25 -> 0 | K29: =+$C29*$D29*0.25 -> 0 | L29: =+$C29*$D29*0.25 -> 0 | M29: =+$C29*$D29*0.25 -> 0 | Q29: =+G29 -> 0 | S29: =+Q29*1*R29+Q29 -> 0 | U29: =+S29*1*T29+S29 -> 0 | W29: =+U29*1*V29+U29 -> 0 | Y29: =+W29*1*X29+W29 -> 0 | AA29: =+G29+S29+U29+W29+Y29 -> 0
B30: 5 | F30: =G30/$G$77 -> 0 | G30: =SUM(J30:M30) -> 0 | I30: =+G30+H30 -> 0 | J30: =+$D30*0.25 -> 0 | K30: =+$D30*0.25 -> 0 | L30: =+$D30*0.25 -> 0 | M30: =+$D30*0.25 -> 0 | Q30: =+G30 -> 0 | S30: =+Q30*1*R30+Q30 -> 0 | U30: =+S30*1*T30+S30 -> 0 | W30: =+U30*1*V30+U30 -> 0 | Y30: =+W30*1*X30+W30 -> 0 | AA30: =+G30+S30+U30+W30+Y30 -> 0
F31: =G31/$G$79 -> 0 | G31: =SUM(J31:M31) -> 0 | I31: =+G31+H31 -> 0 | J31: =+$C31*$D31*0.25 -> 0 | K31: =+$C31*$D31*0.25 -> 0 | L31: =+$C31*$D31*0.25 -> 0 | M31: =+$C31*$D31*0.25 -> 0 | Q31: =+G31 -> 0 | S31: =+Q31*1*R31+Q31 -> 0 | U31: =+S31*1*T31+S31 -> 0 | W31: =+U31*1*V31+U31 -> 0 | Y31: =+W31*1*X31+W31 -> 0 | AA31: =+G31+S31+U31+W31+Y31 -> 0
F32: =G32/$G$79 -> 0 | G32: =SUM(J32:M32) -> 0 | I32: =+G32+H32 -> 0 | J32: =+$D32*0.25 -> 0 | K32: =+$D32*0.25 -> 0 | L32: =+$D32*0.25 -> 0 | M32: =+$D32*0.25 -> 0 | Q32: =+G32 -> 0 | S32: =+Q32*1*R32+Q32 -> 0 | U32: =+S32*1*T32+S32 -> 0 | W32: =+U32*1*V32+U32 -> 0 | Y32: =+W32*1*X32+W32 -> 0 | AA32: =+G32+S32+U32+W32+Y32 -> 0
B34: Subtotal Salaries/Wages | F34: =G34/$G$79 -> 0.52612219 | G34: =SUM(G21:G24) -> 42336 | H34: =SUM(H18:H32) -> 41040 | I34: =+G34+H34 -> 83376 | J34: =SUM(J18:J32) -> 17334 | K34: =SUM(K18:K32) -> 17334 | L34: =SUM(L18:L32) -> 17334 | M34: =SUM(M18:M32) -> 17334 | Q34: =+G34 -> 42336 | S34: =SUM(S18:S32) -> 43001.28 | U34: =SUM(U18:U32) -> 43680.47 | W34: =SUM(W18:W32) -> 44373.928 | Y34: =SUM(Y18:Y32) -> 45082.02 | AA34: =+G34+S34+U34+W34+Y34 -> 218473.7 | AB34: Sub total wages for line items above
B35: Fringe Benefits | F35: =G35/$G$79 -> 0.13153055 | G35: =+G34*0.25 -> 10584 | H35: =+H34*0.22 -> 9028.8 | I35: =+G35+H35 -> 19612.8 | J35: =+J34*0.23 -> 3986.82 | K35: =+K34*0.23 -> 3986.82 | L35: =+L34*0.23 -> 3986.82 | M35: =+M34*0.23 -> 3986.82 | Q35: =+G35 -> 10584 | R35: 0.03 | S35: =+S34*0.25 -> 10750.32 | T35: 0.03 | U35: =+S35*1*T35+S35 -> 11072.83 | V35: 0.03 | W35: =+U35*1*V35+U35 -> 11405.014 | X35: 0.03 | Y35: =+W35*1*X35+W35 -> 11747.165 | AA35: =+G35+S35+U35+W35+Y35 -> 55559.329 | AB35: FICA, Medicare expense, employee tax, health benefits, L&I tax expense @ 25% of salaries/wages
B36: Subtotal Personnel | F36: =G36/$G$79 -> 0.65765273 | G36: =G34+G35 -> 52920 | H36: =H34+H35 -> 50068.8 | I36: =+G36+H36 -> 102988.8 | J36: =J34+J35 -> 21320.82 | K36: =K34+K35 -> 21320.82 | L36: =L34+L35 -> 21320.82 | M36: =M34+M35 -> 21320.82 | Q36: =Q34+Q35 -> 52920 | R36: =+AA36/AA79 -> 0.65859148 | S36: =S34+S35 -> 53751.6 | U36: =U34+U35 -> 54753.3 | W36: =W34+W35 -> 55778.943 | Y36: =Y34+Y35 -> 56829.185 | AA36: =+G36+S36+U36+W36+Y36 -> 274033.03 | AB36: Total Wages & Fringe Benefits
I37: =+G37+H37 -> 0 | Q37: =+G37 -> 0 | S37: =+J37 -> 0 | U37: =+K37 -> 0 | W37: =+M37 -> 0 | Y37: =+O37 -> 0 | AA37: =+Q37+S37+U37 -> 0
B38: Rent/Utilities | F38: =G38/$G$79 -> 0.13421484 | G38: =+'Program Expense Detail'!J18 -> 10800 | I38: =+G38+H38 -> 10800 | J38: =+G38/4 -> 2700 | K38: =+G38/4 -> 2700 | L38: =+G38/4 -> 2700 | M38: =+G38/4 -> 2700 | Q38: =+G38 -> 10800 | R38: =+AA38/AA79 -> 0.13780367 | S38: =+'Program Expense Detail'!K18 -> 11124 | T38: 0 | U38: =+'Program Expense Detail'!L18 -> 11457.72 | V38: 0 | W38: =+'Program Expense Detail'!M18 -> 11801.452 | X38: 0 | Y38: =+'Program Expense Detail'!N18 -> 12155.495 | AA38: =+G38+S38+U38+W38+Y38 -> 57338.667 | AB38: Mortgage Assistance = 40 @ $1350 x 6 months - Rent Assistance = 40 @ $850 x 6
I39: =+G39+H39 -> 0 | U39: =+K39 -> 0 | W39: =+M39 -> 0 | Y39: =+O39 -> 0 | AA39: =+Q39+S39+U39 -> 0
I40: =+G40+H40 -> 0 | U40: =+K40 -> 0 | W40: =+M40 -> 0 | Y40: =+O40 -> 0 | AA40: =+Q40+S40+U40 -> 0
B41: 3. Other Non-Personnel Program Expenses | I41: =+G41+H41 -> 0 | U41: =+K41 -> 0 | W41: =+M41 -> 0 | Y41: =+O41 -> 0 | AA41: =+Q41+S41+U41 -> 0
B42: Communication - CWS Cell Phone | F42: =G42/$G$79 -> 0.0043495551 | G42: 350 | I42: =+G42+H42 -> 350 | J42: =+$O42/4 -> 0 | K42: =+$O42/4 -> 0 | L42: =+$O42/4 -> 0 | M42: =+$O42/4 -> 0 | O42: =+'Program Expense Detail'!J44 -> 0 | Q42: =+G42 -> 350 | R42: 0 | S42: =+Q42*1*R42+Q42 -> 350 | U42: =+S42*1*T42+S42 -> 350 | W42: =+U42*1*V42+U42 -> 350 | Y42: =+W42*1*X42+W42 -> 350 | AA42: =+G42+S42+U42+W42+Y42 -> 1750 | AB42: =+'Program Expense Detail'!K44 -> Initial training for FTE in core competencies, Coordinated Entry, Diversion, Shelter Operations, Landlord Tenant Law, Motivational Interviewing, Trauma Informed Care
B43: Outreach | F43: =G43/$G$79 -> 0 | G43: =SUM(J43:M43) -> 0 | I43: =+G43+H43 -> 0 | J43: =+$O43/4 -> 0 | K43: =+$O43/4 -> 0 | L43: =+$O43/4 -> 0 | M43: =+$O43/4 -> 0 | O43: =+'Program Expense Detail'!J51 -> 0 | Q43: =+G43 -> 0 | R43: 0 | S43: =+Q43*1*R43+Q43 -> 0 | U43: =+S43*1*T43+S43 -> 0 | W43: =+U43*1*V43+U43 -> 0 | Y43: =+W43*1*X43+W43 -> 0 | AA43: =+G43+S43+U43+W43+Y43 -> 0 | AB43: =+'Program Expense Detail'!K51 -> Program allocation for annual accreditation costs for CARF certification
B44: Office Equipment | F44: =G44/$G$79 -> 0 | G44: =SUM(J44:M44) -> 0 | I44: =+G44+H44 -> 0 | J44: =+$O44/4 -> 0 | K44: =+$O44/4 -> 0 | L44: =+$O44/4 -> 0 | M44: =+$O44/4 -> 0 | O44: =+'Program Expense Detail'!J56 -> 0 | Q44: =+G44 -> 0 | R44: -1 | S44: =+Q44*1*R44+Q44 -> 0 | U44: =+S44*1*T44+S44 -> 0 | W44: =+U44*1*V44+U44 -> 0 | Y44: =+W44*1*X44+W44 -> 0 | AA44: =+G44+S44+U44+W44+Y44 -> 0 | AB44: =+'Program Expense Detail'!K56 -> Laptop, monitor, printer for Program Manager and Operations FTE
...
